BEGIN:VCALENDAR
VERSION:2.0
PRODID:-//DISSETI - ECPv6.10.1.1//NONSGML v1.0//EN
CALSCALE:GREGORIAN
METHOD:PUBLISH
X-ORIGINAL-URL:https://dissetigreen.com
X-WR-CALDESC:Eventos para DISSETI
REFRESH-INTERVAL;VALUE=DURATION:PT1H
X-Robots-Tag:noindex
X-PUBLISHED-TTL:PT1H
BEGIN:VTIMEZONE
TZID:America/Chicago
BEGIN:DAYLIGHT
TZOFFSETFROM:-0600
TZOFFSETTO:-0500
TZNAME:CDT
DTSTART:20250309T080000
END:DAYLIGHT
BEGIN:STANDARD
TZOFFSETFROM:-0500
TZOFFSETTO:-0600
TZNAME:CST
DTSTART:20251102T070000
END:STANDARD
END:VTIMEZONE
BEGIN:VEVENT
DTSTART;VALUE=DATE:20251126
DTEND;VALUE=DATE:20251129
DTSTAMP:20260423T185011
CREATED:20250301T000512Z
LAST-MODIFIED:20250301T000744Z
UID:7695-1764115200-1764374399@dissetigreen.com
SUMMARY:CONCAPAN El Salvador 2025
DESCRIPTION:DISSETI dirá “presente” en la Cuadragésima Tercera Convención del IEEE de Centroamérica y Panamá (CONCAPAN 2025) del Consejo CAPANA (Centroamérica y Panamá) del IEEE es el evento más importante de la región y se llevará a cabo del 26 al 28 de noviembre de 2025 en el Hotel Hilton de San Salvador\, El Salvador. \nBajo el tema “Cuarta Revolución Industrial: Innovación para un Futuro Sostenible”\, CONCAPAN 2025 se enfocará en las tecnologías disruptivas que están transformando la ingeniería y la industria. El evento contará con una exposición técnica con la participación de empresas líderes en la región\, que presentarán las últimas innovaciones tecnológicas y sus aplicaciones prácticas. \nEl programa incluirá conferencias magistrales a cargo de expertos internacionales y la presentación de artículos sobre temas como inteligencia artificial\, ciberseguridad\, automatización avanzada\, energías renovables\, robótica y más\, ofreciendo nuevas perspectivas en áreas emergentes de la ingeniería y la ciencia. \nCONCAPAN 2025 también ofrecerá tutoriales especializados sobre tecnologías emergentes\, brindando a los asistentes capacitación práctica e información clave. \nEste evento representa una oportunidad excepcional para mantenerse al día con las últimas tendencias tecnológicas\, conectar con líderes de la industria y descubrir cómo la innovación está impulsando un futuro más sostenible. No te pierdas CONCAPAN 2025 en El Salvador\, donde la ingeniería y la sostenibilidad convergen para dar forma al futuro. \nFuente: https://concapan2025.ieee.org.sv/
URL:https://dissetigreen.com/evento/concapan-el-salvador-2025/
LOCATION:Hotel Hilton San Salvador\, Hotel Hilton\, San Salvador\, San Salvador\, El Salvador
CATEGORIES:Eventos IEEE,Ferias
ATTACH;FMTTYPE=image/jpeg:https://dissetigreen.com/wp-content/uploads/2025/02/logo-concapan.jpg
END:VEVENT
END:VCALENDAR